BEGIN:VCALENDAR
VERSION:2.0
PRODID:-//Stadshotellet i Lidköping - ECPv6.15.20//NONSGML v1.0//EN
CALSCALE:GREGORIAN
METHOD:PUBLISH
X-WR-CALNAME:Stadshotellet i Lidköping
X-ORIGINAL-URL:https://lidkopingstadshotell.se
X-WR-CALDESC:Händelser för Stadshotellet i Lidköping
REFRESH-INTERVAL;VALUE=DURATION:PT1H
X-Robots-Tag:noindex
X-PUBLISHED-TTL:PT1H
BEGIN:VTIMEZONE
TZID:Europe/Stockholm
BEGIN:DAYLIGHT
TZOFFSETFROM:+0100
TZOFFSETTO:+0200
TZNAME:CEST
DTSTART:20250330T010000
END:DAYLIGHT
BEGIN:STANDARD
TZOFFSETFROM:+0200
TZOFFSETTO:+0100
TZNAME:CET
DTSTART:20251026T010000
END:STANDARD
BEGIN:DAYLIGHT
TZOFFSETFROM:+0100
TZOFFSETTO:+0200
TZNAME:CEST
DTSTART:20260329T010000
END:DAYLIGHT
BEGIN:STANDARD
TZOFFSETFROM:+0200
TZOFFSETTO:+0100
TZNAME:CET
DTSTART:20261025T010000
END:STANDARD
BEGIN:DAYLIGHT
TZOFFSETFROM:+0100
TZOFFSETTO:+0200
TZNAME:CEST
DTSTART:20270328T010000
END:DAYLIGHT
BEGIN:STANDARD
TZOFFSETFROM:+0200
TZOFFSETTO:+0100
TZNAME:CET
DTSTART:20271031T010000
END:STANDARD
END:VTIMEZONE
BEGIN:VEVENT
DTSTART;TZID=Europe/Stockholm:20260418T170000
DTEND;TZID=Europe/Stockholm:20260418T220000
DTSTAMP:20260420T145826
CREATED:20260205T103253Z
LAST-MODIFIED:20260206T115134Z
UID:49303-1776531600-1776549600@lidkopingstadshotell.se
SUMMARY:Dinner club
DESCRIPTION:Vår senaste Dinner Club blev snabbt fullbokad! Så skriv upp den 18 april i kalendern redan nu\, då kör vi en ny DC. Mer information kommer inom kort!
URL:https://lidkopingstadshotell.se/event/dinner-club/
ATTACH;FMTTYPE=image/png:https://lidkopingstadshotell.se/wp-content/uploads/2024/08/Instagram-inlagg-staende.-14.png
END:VEVENT
BEGIN:VEVENT
DTSTART;TZID=Europe/Stockholm:20260220T190000
DTEND;TZID=Europe/Stockholm:20260220T190000
DTSTAMP:20260420T145826
CREATED:20260205T092532Z
LAST-MODIFIED:20260205T093932Z
UID:49307-1771614000-1771614000@lidkopingstadshotell.se
SUMMARY:Soul Train by Stadt
DESCRIPTION:Är du sugen på en kväll med mat till ett schysst pris\, goda drinkar och ett dansgolv som drar igång redan 19.00? På fredag den 20 februari kör vi Soul Train by Stadt. Fri entré och maxad stämning från tidig kväll.
URL:https://lidkopingstadshotell.se/event/afterwork-13/
ATTACH;FMTTYPE=image/png:https://lidkopingstadshotell.se/wp-content/uploads/2026/02/Nattklubb-Instagram-inlagg-staende-47.png
END:VEVENT
BEGIN:VEVENT
DTSTART;TZID=Europe/Stockholm:20260216T170000
DTEND;TZID=Europe/Stockholm:20260220T220000
DTSTAMP:20260420T145826
CREATED:20260206T114701Z
LAST-MODIFIED:20260206T114701Z
UID:51245-1771261200-1771624800@lidkopingstadshotell.se
SUMMARY:Restaurangveckan
DESCRIPTION:Nu är den tillbaka. Restaurangveckan i Lidköping.\nVeckan när man plötsligt blir påmind om hur trevligt det är att gå ut och äta en dag mitt i veckan.16–20 februari dukar vi upp på Lidköpings Stadshotell och bjuder in till en tvårätters middag för endast 250 kr per person.\nEn perfekt anledning att unna dig något riktigt gott\, mitt i vardagen.
URL:https://lidkopingstadshotell.se/event/restaurangveckan/
ATTACH;FMTTYPE=image/png:https://lidkopingstadshotell.se/wp-content/uploads/2026/02/restaurangveckan-kopia-2.png
END:VEVENT
BEGIN:VEVENT
DTSTART;TZID=Europe/Stockholm:20260214T170000
DTEND;TZID=Europe/Stockholm:20260214T220000
DTSTAMP:20260420T145826
CREATED:20260205T095901Z
LAST-MODIFIED:20260205T100327Z
UID:49305-1771088400-1771106400@lidkopingstadshotell.se
SUMMARY:Alla hjärtans dag
DESCRIPTION:Alla hjärtans dag handlar om en sak. Att ta hand om varandra.\nKvällen till ära bjuder vi på en trerätters meny för endast 495 kr per person. En perfekt kväll för dig som vill äta gott\, skratta mer och bara njuta tillsammans.\nSäkra din plats redan idag!
URL:https://lidkopingstadshotell.se/event/afterwork-12/
ATTACH;FMTTYPE=image/png:https://lidkopingstadshotell.se/wp-content/uploads/2026/02/Instagram-inlagg-staende-14.png
END:VEVENT
END:VCALENDAR